BEGIN:VCALENDAR
VERSION:2.0
PRODID:-//ChurchDev//Events//EN
CALSCALE:GREGORIAN
METHOD:PUBLISH
BEGIN:VEVENT
UID:3989-20180124@www.bbclife.org
SUMMARY:Awana Clubs &#8211\; Bring a friend night!
DTSTART:20180124T230000Z
DTEND:20180125T000000Z
DESCRIPTION:https://www.bbclife.org/events/awana-clubs-bring-a-friend-night/
LOCATION:4300 S Hwy 53 Crestwood\, KY  40014
URL:https://www.bbclife.org/events/awana-clubs-bring-a-friend-night/
DTSTAMP:20260426T014150Z
END:VEVENT
END:VCALENDAR
