BEGIN:VCALENDAR
VERSION:2.0
PRODID:-//ChurchDev//Events//EN
CALSCALE:GREGORIAN
METHOD:PUBLISH
BEGIN:VEVENT
UID:8077-20220413@www.bbclife.org
SUMMARY:Easter Egg Hunt
DTSTART:20220413T220000Z
DTEND:20220413T233000Z
DESCRIPTION:https://www.bbclife.org/events/easter-egg-hunt/
URL:https://www.bbclife.org/events/easter-egg-hunt/
DTSTAMP:20260426T000657Z
END:VEVENT
END:VCALENDAR
